BEGIN:VCALENDAR
VERSION:2.0
PRODID:-//wp-events-plugin.com//7.2.3.1//EN
TZID:Europe/Warsaw
X-WR-TIMEZONE:Europe/Warsaw
BEGIN:VEVENT
UID:16@aikiving.com
DTSTART;TZID=Europe/Warsaw;VALUE=DATE:20250412
DTEND;TZID=Europe/Warsaw;VALUE=DATE:20250413
DTSTAMP:20250818T094009Z
URL:https://aikiving.com/events/ogolnopolskie-szkolenie-ju-jitsu-lodz-2025
 -r/
SUMMARY:OGÓLNOPOLSKIE SZKOLENIE JU-JITSU\, Łódź 2025 r.
DESCRIPTION:\n\nOGÓLNOPOLSKIE SZKOLENIE JU-JITSU– w tym roku obchodzimy 
 XXX lecie założenia Łódzkiego Klubu Ju-Jitsu 12 kwietnia 2025 r. Łód
 ź.\n\nSzkolenie organizowane przez Łódzki Klub Ju-Jitsu przeznaczone je
 st przede wszystkim dla wszystkich trenujących Ju-Jitsu oraz inne sztuki 
 i spoty walki w tym instruktorów\, asystentów\, zawodników oraz grup mu
 ndurowych. Obejmuje oprócz technik tradycyjnych\, sportowych\, techniki s
 amoobrony i interwencyjne.\n\nTermin:\n12 kwietnia 2025 r. (sobota) godz. 
 10:00\,\nMiejsce:\nSala treningowa przy\, ul. Piotra Skargi 12\, Łódź (
 niebieski budynek)\nZgłoszenia:\nŁódzki Klub Ju-Jitsu\, mistrz Adam Gra
 jewski 7. Dan.\ntel. 501 077 959\, jujitsu@wp.pl\nProwadzący:\nZaproszeni
  Mistrzowie Ju-Jitsu\, wykładowcy i goście:\nMaciej Mogiła Lisowski (10
 . Dan Ju- Jitsu) – gość Honorowy\nPaweł Nerć (10. Dan Ju-Jitsu)\nKrz
 ysztof Jankowiak (10. Dan Ju-Jitsu)\nAndrzej Marczak (Ekspert Krav Maga)\n
 Andrzej Kowalczyk (7. Dan Ju-Jitsu)\nAdam Grajewski (7. Dan Ju-Jitsu)\nMar
 cin Gęsicki (2. Dan Ju-Jitsu)\n\nKoszt uczestnictwa: 100 zł płatne na m
 iejscu u gospodarza.\n\n
ATTACH;FMTTYPE=image/jpeg:https://aikiving.com/wp-content/uploads/2025/01/
 472921249_8618194581617920_5123975561616367903_n.jpg
CATEGORIES:sztuki walki łodź
LOCATION:Łódzki Klub Ju Jitsu\, Piotra Skargi 12\, Łódź\, Poland
X-APPLE-STRUCTURED-LOCATION;VALUE=URI;X-ADDRESS=Piotra Skargi 12\, Łódź\
 , Poland;X-APPLE-RADIUS=100;X-TITLE=Łódzki Klub Ju Jitsu:geo:0,0
END:VEVENT
BEGIN:VTIMEZONE
TZID:Europe/Warsaw
X-LIC-LOCATION:Europe/Warsaw
BEGIN:DAYLIGHT
DTSTART:20250330T030000
TZOFFSETFROM:+0100
TZOFFSETTO:+0200
TZNAME:CEST
END:DAYLIGHT
END:VTIMEZONE
END:VCALENDAR