BEGIN:VCALENDAR
VERSION:2.0
PRODID:-//wp-events-plugin.com//7.2.3.1//EN
TZID:Europe/Warsaw
X-WR-TIMEZONE:Europe/Warsaw
BEGIN:VEVENT
UID:30@aikiving.com
DTSTART;TZID=Europe/Warsaw:20260425T000000
DTEND;TZID=Europe/Warsaw:20260426T000000
DTSTAMP:20260316T101845Z
URL:https://aikiving.com/events/sakura-festiwal-lodz-2026/
SUMMARY:Sakura Festiwal\, Łódź 2026
DESCRIPTION:Sakura Festiwal to kulturalno-kulinarna podróż do kraju kwitn
 ącej wiśni.Festiwalowa strefa gastronomiczna to tradycyjne japońskie sm
 aki - od delikatnego sushi\, po aromatyczne rameny i klasyczne przekąski 
 w tempurze. Nie zabraknie także bogatej oferty słodkości\, wśród któ
 rych królują desery z matchą czy ryżowe ciasteczka mochi.Na festiwalu 
 znajdziecie również stoiska z unikalnymi dodatkami\, biżuterią i kosme
 tykami inspirowanymi sekretami piękna orientalnych tradycji.Odkryj z nami
  bogactwo japońskiego dziedzictwa!\nKontakt dla wystawców: smacznytarg@s
 macznytarg.pl
ATTACH;FMTTYPE=image/jpeg:https://aikiving.com/wp-content/uploads/2026/03/
 649566424_1518292226998026_5418962711797209387_n.jpg
CATEGORIES:kultura
LOCATION:Officyna\, Piotrkowska 217\, Łódź\, Polska\, 90-451\, Poland
X-APPLE-STRUCTURED-LOCATION;VALUE=URI;X-ADDRESS=Piotrkowska 217\, Łódź\,
  Polska\, 90-451\, Poland;X-APPLE-RADIUS=100;X-TITLE=Officyna:geo:0,0
END:VEVENT
BEGIN:VTIMEZONE
TZID:Europe/Warsaw
X-LIC-LOCATION:Europe/Warsaw
BEGIN:DAYLIGHT
DTSTART:20260329T030000
TZOFFSETFROM:+0100
TZOFFSETTO:+0200
TZNAME:CEST
END:DAYLIGHT
END:VTIMEZONE
END:VCALENDAR