BEGIN:VCALENDAR
VERSION:2.0
PRODID:-//wp-events-plugin.com//7.2.3.1//EN
TZID:Europe/Warsaw
X-WR-TIMEZONE:Europe/Warsaw
BEGIN:VEVENT
UID:22@aikiving.com
DTSTART;TZID=Europe/Warsaw;VALUE=DATE:20251114
DTEND;TZID=Europe/Warsaw;VALUE=DATE:20251116
DTSTAMP:20250929T124227Z
URL:https://aikiving.com/events/seminarium-aikido-piotrkow-trybunalski-202
 5-shihan-roman-hoffmann-7-dan/
SUMMARY:Seminarium aikido\, Piotrków Trybunalski 2025\, Shihan Roman Hoffm
 ann 7 dan
DESCRIPTION:Mamy zaszczyt zaprosić na jesienne seminarium regionalne do Kl
 ubu Aikido Aikikai w Piotrkowie Trybunalskim\, podczas którego odbędzie 
 się sesja egzaminacyjna na stopnie mistrzowskie. Termin seminarium 14-15 
 listopada 2025r.  \n\nPLAN SEMINARIUM: \n\nPiątek 14.11.2025 – (doj
 o Klubu Aikido Aikikai\, ul. Słowackiego 60) trening dla grupy młodzież
 owo-dorosłej. \n\n– 19:00-20:30 młodzież i dorośli I trening  \n\
 nTreningi w sobotę odbędą się na „Hali Relax” przy ul. Batorego 8
  \n\nSobota 15.11.2025: \n\n– 9:00 – 10:15 przedszkolaki (trening i 
 egzaminy)  \n\n– 10:30 – 12:30 grupy dziecięce (trening i egzaminy)
   \n\n– 13:00 – 14:30 młodzież i dorośli II trening \n\n– 14:3
 0 – 16:00 przerwa obiadowa (lista polecanych restauracji poniżej) \n\n
 – 16:00 – 17:45 młodzież i dorośli III trening \n\n– 18:00 – 2
 0:00 – egzaminy na stopnie mistrzowskie (1-4 DAN) \n\n \n\nDla osób c
 hętnych możliwy nocleg na macie (wystarczy zabrać śpiwór) w dojo Klub
 u z piątku na sobotę (BEZPŁATNIE) prosimy zgłaszać się drogą mejlow
 ą: biuro@klub-aikido.com \n\n \n\nCENNIK: \n\nDzieci – 50zł \n\nE
 gzamin dzieci – 50zł \n\nCałe seminarium – 210zł \n\nSobota – 1
 70zł \n\nPiątek – 60zł \n\nCzłonkowie Klubu Aikido Aikikai 170zł 
 – niezależnie od ilości treningów (opłata stała) \n\nInstruktorzy 
 CAA Polska – 100zł \n\nInstruktorzy Klubu Aikido Aikikai – 80zł \n
 \nSzefowie Klubów – GRATIS \n\n \n\nLista restauracji: \n\n 	Restaur
 acja Staromiejska -Rynek Trybunalski 4/5\, 97-300 Piotrków Trybunalski h
 ttps://maps.app.goo.gl/dam145TQ3K4s1YiGA\n 	Kamienica Restobar – Rynek T
 rybunalski 1\, 97-300 Piotrków Trybunalski https://maps.app.goo.gl/KRCp3
 AjDsvkvTGtD9 \n 	Umi Sushi restauracja japońska – Rynek Trybunalski 11
 /1\, 97-300 Piotrków Trybunalski https://maps.app.goo.gl/5F7zSHY8TaB3tHQ
 a9  \n 	Skyy Pub – Ulica Rycerska 8\, 97-300 Piotrków Trybunalski ht
 tps://maps.app.goo.gl/ACgDzUnshjCxJvzf8 \n 	Rendez Vous Restauracja – J
 uliusza Słowackiego 14/16\, 97-300 Piotrków Trybunalski https://maps.ap
 p.goo.gl/NzpvVNGGmiZvH6z78 \n 	Pizzeria Riposta – Wojska Polskiego 38\,
  97-300 Piotrków Trybunalski https://maps.app.goo.gl/fhucduijczZqea168 
 \n 	Restauracja SAKKARA – Młynarska 1\, 97-300 Piotrków Trybunalski h
 ttps://maps.app.goo.gl/PfMYr7sFWCE113uz8  \n 	Woda &amp\; Ogień – Ryn
 ek Trybunalski 10\, 97-300 Piotrków Trybunalski https://maps.app.goo.gl/
 xJce7HtNKifkJPQK7\n 	NA!Sushi – Garncarska 1/3a\, 97-300 Piotrków Trybu
 nalski https://maps.app.goo.gl/M9DTvGvfBnSWXcfW7\n\nWszelkie pytania pros
 imy kierować drogą mejlową na adres: biuro@klub-aikido.com lub telefo
 nicznie: 692446252 – sensei Michał Wąs  
ATTACH;FMTTYPE=image/jpeg:https://klub-aikido.com/wp-content/uploads/plaka
 t2.jpg
END:VEVENT
BEGIN:VTIMEZONE
TZID:Europe/Warsaw
X-LIC-LOCATION:Europe/Warsaw
BEGIN:STANDARD
DTSTART:20251026T020000
TZOFFSETFROM:+0200
TZOFFSETTO:+0100
TZNAME:CET
END:STANDARD
END:VTIMEZONE
END:VCALENDAR