BEGIN:VCALENDAR
VERSION:2.0
PRODID:-//wp-events-plugin.com//7.2.3.1//EN
TZID:Europe/Warsaw
X-WR-TIMEZONE:Europe/Warsaw
BEGIN:VEVENT
UID:13@aikiving.com
DTSTART;TZID=Europe/Warsaw;VALUE=DATE:20250426
DTEND;TZID=Europe/Warsaw;VALUE=DATE:20250428
DTSTAMP:20250818T094009Z
URL:https://aikiving.com/events/xviii-dni-japonskie-lodz-2025/
SUMMARY:XVIII dni Japońskie\, Łódź 2025
DESCRIPTION:Poniżej przedstawiamy program XVIII Dni Japońskich\, które o
 dbędą się w dniach 26–27 kwietnia 2025 roku w auli T1 oraz salach Wyd
 ziału Ekonomiczno-Socjologicznego Uniwersytetu Łódzkiego.Jak co roku\, 
 wydarzenie poświęcone jest pogłębieniu wiedzy o kulturze\, nauce\, gos
 podarce i społeczeństwie Japonii.Dwudniowy program obejmuje wykłady\, w
 arsztaty i pokazy\, które odbędą się w 300-osobowej amfiteatralnej aul
 i\, a także wystawy prezentowane w pobliżu sali wykładowej.Dodatkowo do
 stępne będą stoiska z książkami o Japonii\, przedmiotami codziennego 
 użytku\, wyrobami rzemiosła i sztuki japońskiej.Wszystkie punkty progra
 mu są otwarte dla publiczności\, a udział w wydarzeniu jest bezpłatny!
 ___________________________26 kwietnia 2025\, sobota______________________
 _____⬬ 11:00Uroczyste otwarcie wydarzenia i tort na 18tkę⬬ 12:00Konce
 rt zespołu Bębny Amaterasu – Ryotaro Sakamoto\, Warszawska Szkoła Ję
 zyka Japońskiego⬬ 13:00„Obce” wzory a tożsamość kulturowa Japoni
 i – Prof. Ewa Pałasz-Rutkowska\, Katedra Japonistyki\, Wydział Orienta
 listyczny\, Uniwersytet Warszawski⬬ 14:00Japońskie metody w leczeniu dz
 ieci i młodzieży w kryzysie psychicznym\, Grażyna Borys\, Zespół Szk
 ół Specjalnych przy Wojewódzkim Zespole Lecznictwa Psychiatrycznego w O
 lsztynie⬬ 15:00Furoshiki - warsztaty japońskiej sztuki pakowania prawie
  wszystkiego – Ewa Soszko-Dziwisińska\, Muzeum Azji i Pacyfiku im. Andr
 zeja Wawrzyniaka\, Warszawa⬬ 16:00W japońskim onsenie\, Dr inż. Joanna
  Sokołowska i Konrad Rzentarzewski\, autorzy bloga: „Byłem tu. Tony Ha
 lik” i podcastu: „O Japonii”\, Warszawa⬬ 17:00Pokaz judo - Leszek 
 Piąstka\, Anna Jagiełło\, Studium Wychowania Fizycznego i Sportu Uniwer
 sytetu Łódzkiego_____________________________27 kwietnia 2025\, niedziel
 a_____________________________⬬ 11:00Chanoyu – Japońska droga sztuki 
 herbaty: spotkanie rodzinne - Urszula Sōu Mach-Bryson\, Katedra Japonisty
 ki\, Wydział Orientalistyczny\, Uniwersytet Warszawski\; Prezes Stowarzys
 zenia Drogi Herbaty Urasenke Tankōkai Sunshinkai⬬ 12:00Japońskie inwes
 tycje źródłem transformacji energetycznej w Europie\, Prof. Tomasz Doro
 żyński\, Katedra Ekonomii Międzynarodowej\, Wydział Ekonomiczno-Socjol
 ogiczny\, Uniwersytet Łódzki⬬ 13:00Konserwacja japońskich obiektów z
  laki w kolekcjach polskich\, Joanna Koryciarz-Kitamikado\, Polski Instytu
 t Studiów nad Sztuką Świata\, Warszawa⬬ 14:00Mistrz Hokusai i malarst
 wo japońskie okresu Edo (1603-1868) – Anita Lipińska\, KOKOJAPAN.PL\,
  Klub Yakumo-goto\, Łódź⬬ 15:00„Most” – krótki film o dzieciac
 h syberyjskich\, Grand Prix Short Shorts Film Festival &amp\; Asia 2023 
 – Dr Izumi Yoshida\, Akademia Sztuk Pięknych\, Łódź⬬ 16:00Niezwyk
 łe dzieje japońskiej ceramiki – Joanna Rajch\, Amberious\, Łódź⬬ 
 17:00Japońska kultura popularna w dobie AI – Dr Jakub Karpoluk\, Wydzia
 ł Sztuki i Nowych Mediów\, Polsko - Japońska Akademia Technik Komputero
 wych\, Warszawa__________________________________Wystawy: 26 - 27 kwietnia
  2025__________________________________⬥ „Kyo” – kaligrafie\, graf
 iki oraz fotografie eksperymentalne\, Masafumi Ryuso Koshio\, Olgierd Zbyc
 horski\, Shizuoka – Warszawa⬥ „Delikatność i elegancja” – z ko
 lekcji lalek japońskich\, Mała Japonia. Ogród Japoński Siruwia\, Sylwi
 a i Jakub Kurowscy\, Przesieka⬥ „Re-think Beauty” – grafiki z cykl
 u Wpatrzenie 2024 – Agnieszka Głowacka\, agstudio.net\, Łódź⬥ „
 Magia zieleni” – drzewka bonsai\, Dariusz Zając\, Polska Asocjacja Bo
 nsai\, Łódź
CATEGORIES:sztuki walki łodź
LOCATION:Wydział Ekonomiczno-Socjologiczny Uniwersytet Łódzki\,  Polskie
 j Organizacji Wojskowej 3/5\, Łódź\, 90-255\, Poland
X-APPLE-STRUCTURED-LOCATION;VALUE=URI;X-ADDRESS= Polskiej Organizacji Wojsk
 owej 3/5\, Łódź\, 90-255\, Poland;X-APPLE-RADIUS=100;X-TITLE=Wydział E
 konomiczno-Socjologiczny Uniwersytet Łódzki:geo:0,0
END:VEVENT
BEGIN:VTIMEZONE
TZID:Europe/Warsaw
X-LIC-LOCATION:Europe/Warsaw
BEGIN:DAYLIGHT
DTSTART:20250330T030000
TZOFFSETFROM:+0100
TZOFFSETTO:+0200
TZNAME:CEST
END:DAYLIGHT
END:VTIMEZONE
END:VCALENDAR