BEGIN:VCALENDAR
VERSION:2.0
PRODID:-//wp-events-plugin.com//7.2.3.1//EN
TZID:Europe/Warsaw
X-WR-TIMEZONE:Europe/Warsaw
BEGIN:VEVENT
UID:2@aikiving.com
DTSTART;TZID=Europe/Warsaw:20250927T110000
DTEND;TZID=Europe/Warsaw:20250927T140000
DTSTAMP:20250818T094009Z
URL:https://aikiving.com/events/marcin-rozalski-seminarium-sportow-walki-l
 odz-2025/
SUMMARY:Marcin Różalski\, seminarium sportów walki\, Łódź 2025
DESCRIPTION:Zdobądź bezcenne doświadczenie\nod jednego z najbardziej cha
 ryzmatycznych\ni wszechstronnych zawodników w Polsce!\n\nMarcin “Róża
 l” Różalski – były mistrz KSW\,\nfighter z krwi i kości\, zawodnik
  muay thai\,\nkickboxingu i MMA – poprowadzi 3-godzinne seminarium\, kt
 óre da Ci konkretną wiedzę\,\nmotywację i energię do działania. 🥊
 🔥\n\n📅 Data: Sobota\, 27 września 2025\n🕚 Godzina: 11:00 – 14:
 00\n📍 Miejsce: VeraSport\, ul. Siewna 15\, Łódź\n💸 Koszt (I pula)
 : 150 zł – płatne przy rezerwacji\n\nDlaczego warto?\n✅ Nauczysz si
 ę praktycznych technik od zawodnika światowego poziomu\n\n✅ Poznasz me
 ntalność wojownika\, która zostaje\nna całe życie\n\n✅ Zrobisz krok
  naprzód w swojej pasji – niezależnie\nod poziomu zaawansowania\n\n✅
  Spotkasz innych zajawkowiczów i doładujesz\nsię sportową energią\n\n
 📩 Rezerwacja miejsc już ruszyła – ilość miejsc ograniczona!\n\nZg
 łoszenia przez DM 📥 lub pod numerem:\n☎️ +48798587459\n\nNie przeg
 ap tej okazji – ucz się od najlepszych.\nDo zobaczenia na macie! 👊
ATTACH;FMTTYPE=image/jpeg:https://aikiving.com/wp-content/uploads/2025/07/
 rozalski-lodz.jpg
CATEGORIES:sztuki walki łodź
LOCATION:VeraSport\, Siewna 15\, Łóź\, Polska\, 90-204\, Poland
X-APPLE-STRUCTURED-LOCATION;VALUE=URI;X-ADDRESS=Siewna 15\, Łóź\, Polska
 \, 90-204\, Poland;X-APPLE-RADIUS=100;X-TITLE=VeraSport:geo:0,0
END:VEVENT
BEGIN:VTIMEZONE
TZID:Europe/Warsaw
X-LIC-LOCATION:Europe/Warsaw
BEGIN:DAYLIGHT
DTSTART:20250330T030000
TZOFFSETFROM:+0100
TZOFFSETTO:+0200
TZNAME:CEST
END:DAYLIGHT
END:VTIMEZONE
END:VCALENDAR