BEGIN:VCALENDAR
VERSION:2.0
PRODID:-//wp-events-plugin.com//7.2.3.1//EN
TZID:Europe/Warsaw
X-WR-TIMEZONE:Europe/Warsaw
BEGIN:VEVENT
UID:6@aikiving.com
DTSTART;TZID=Europe/Warsaw:20260523T110000
DTEND;TZID=Europe/Warsaw:20260523T173000
DTSTAMP:20260420T081922Z
URL:https://aikiving.com/events/warsztaty-samoobrony-dla-mlodziezy/
SUMMARY:Warsztaty samoobrony dla młodzieży
DESCRIPTION:Zapraszamy osoby w wieku 14-25 lat.\n\nGodziny zajęć :\n\n11.
 00-14.00 I trening\n\n14.30-17.30 II trening\n\nZapisy pod numerem telefon
 u:\n\n+48 536 009 979
ATTACH;FMTTYPE=image/jpeg:https://aikiving.com/wp-content/uploads/2025/08/
 samoobrona-lodz-2-scaled.png
CATEGORIES:samoobrona łódź,sztuki walki łodź
LOCATION:Akademia Wschodnich Sztuk Walki w Łodzi\, ul. ks. Ignacego Skorup
 ki 21\, Łódź\, Polska\, 90-532\, Poland
X-APPLE-STRUCTURED-LOCATION;VALUE=URI;X-ADDRESS=ul. ks. Ignacego Skorupki 2
 1\, Łódź\, Polska\, 90-532\, Poland;X-APPLE-RADIUS=100;X-TITLE=Akademia
  Wschodnich Sztuk Walki w Łodzi:geo:0,0
END:VEVENT
BEGIN:VTIMEZONE
TZID:Europe/Warsaw
X-LIC-LOCATION:Europe/Warsaw
BEGIN:DAYLIGHT
DTSTART:20260329T030000
TZOFFSETFROM:+0100
TZOFFSETTO:+0200
TZNAME:CEST
END:DAYLIGHT
END:VTIMEZONE
END:VCALENDAR