BEGIN:VCALENDAR
VERSION:2.0
PRODID:-//wp-events-plugin.com//7.2.3.1//EN
TZID:Europe/Warsaw
X-WR-TIMEZONE:Europe/Warsaw
BEGIN:VEVENT
UID:5@aikiving.com
DTSTART;TZID=Europe/Warsaw;VALUE=DATE:20250705
DTEND;TZID=Europe/Warsaw;VALUE=DATE:20250713
DTSTAMP:20250818T094009Z
URL:https://aikiving.com/events/samoobrona-podstawy-dla-kobiet-pracujacych
 -1-na-1-z-klientem-pacjentem/
SUMMARY:Samoobrona-podstawy dla kobiet pracujących 1 na 1 z klientem/pacje
 ntem
DESCRIPTION:Samoobrona-podstawy dla kobiet pracujących 1 na 1 z klientem/p
 acjentem\nZapraszamy serdecznie - szczególnie kobiety\, choć nie tylko -
  na kurs podstaw samoobrony dla osób pracujących indywidualnie z kliente
 m/pacjentem.Kurs skierowany jest do osób pracujących w pojedynkę w swoi
 ch gabinetach\, które chcą umieć odpowiednio zareagować w sytuacji bez
 pośredniego ataku i zagrożenia zdrowia lub życia. Warsztat będzie tak
 że użyteczny dla osób\, które chcą poznać podstawy samoobrony w sytu
 acji 1 na 1 z napastnikiem w ogóle.\nOrganizacja:Liczba miejsc: 6 osóbCz
 as trwania: 1 dzień w podziale na 2 x 4h w dwie kolejne soboty (możliwa 
 kontynuacja dla osób chętnych)Koszt: 199 PLN\nProgram kursu:- podstawowe
  zasady samoobrony - teoria i praktyka- pozycja z gardą i jej zastosowani
 e- obroty ciała i uniki- jak wyjść z klinczu w pozycji stojącej\, sied
 zącej i leżącej- umiejętne wykorzystanie przedmiotów w zasięgu ręki
  do samoobrony- "czułe punkty" w ciele przeciwnika i interwencja z ich wy
 korzystaniem- pomocne "sprzęty" do damskiej torebki - zastosowanie w prak
 tyce\, fakty i mity\nKurs poprowadzi Robert Sowiński\, psycholog i instru
 ktor sztuk walk.\nO Robercie:Robert jest psychologiem i sam pracuje indywi
 dualnie z ludźmi\, niemniej z pasji i prawdziwego zamiłowania przez dłu
 gie lata związany był ze sztukami walk. Swoje umiejętności rozwijał w
  Wielkiej Brytanii\, m.in. pod okiem mistrza Donato Nardizzi\, gdzie zdoby
 ł IV Dan Taekwondo (ITF) oraz uprawnienia instruktorskie. W swojej karier
 ze sportowej zgłębiał także tajniki Jujitsu\, Wing Chun\, Karate. Dzi
 ęki praktycznym umiejętnościom\, potrafi wybrać to\, co w przypadku ob
 rony kobiet sprawdzi się najlepiej i jest potencjalnie najprostsze do zas
 tosowania w rzeczywistej sytuacji zagrożenia.\nZgłoszenia zbieramy do dn
 ia 17 czerwca poprzez email: kontakt@relatico.pl lub kliknięcie "Wezmę u
 dział" - konieczna przedpłata w wysokości 50 PLN\n\nSZCZEGÓŁY:\nhttps
 ://www.facebook.com/events/1500259874680083/
CATEGORIES:bezpieczeństwo osobiste,samoobrona łódź
LOCATION:RelatiCo Szkolenia i Mediacje\, Wigury 7\, Łódź\, Polska\, 90-3
 02\, Poland
X-APPLE-STRUCTURED-LOCATION;VALUE=URI;X-ADDRESS=Wigury 7\, Łódź\, Polska
 \, 90-302\, Poland;X-APPLE-RADIUS=100;X-TITLE=RelatiCo Szkolenia i Mediacj
 e:geo:0,0
END:VEVENT
BEGIN:VTIMEZONE
TZID:Europe/Warsaw
X-LIC-LOCATION:Europe/Warsaw
BEGIN:DAYLIGHT
DTSTART:20250330T030000
TZOFFSETFROM:+0100
TZOFFSETTO:+0200
TZNAME:CEST
END:DAYLIGHT
END:VTIMEZONE
END:VCALENDAR